Package: doppelgangR Version: 1.35.0 Command: /home/biocbuild/bbs-3.21-bioc/R/bin/R CMD build --keep-empty-dirs --no-resave-data doppelgangR StartedAt: 2025-02-18 16:59:28 -0500 (Tue, 18 Feb 2025) EndedAt: 2025-02-18 17:00:39 -0500 (Tue, 18 Feb 2025) EllapsedTime: 71.1 seconds RetCode: 0 Status: OK PackageFile: doppelgangR_1.35.0.tar.gz PackageFileSize: 457.6 KiB