Package: doppelgangR Version: 1.35.0 Command: /Library/Frameworks/R.framework/Resources/bin/R CMD build --keep-empty-dirs --no-resave-data doppelgangR StartedAt: 2025-02-18 16:32:05 -0500 (Tue, 18 Feb 2025) EndedAt: 2025-02-18 16:33:24 -0500 (Tue, 18 Feb 2025) EllapsedTime: 78.8 seconds RetCode: 0 Status: OK PackageFile: doppelgangR_1.35.0.tar.gz PackageFileSize: 462.8 KiB