Package: dominoSignal Version: 1.1.0 Command: /home/biocbuild/bbs-3.21-bioc/R/bin/R CMD check --install=check:dominoSignal.install-out.txt --library=/home/biocbuild/bbs-3.21-bioc/R/site-library --timings dominoSignal_1.1.0.tar.gz StartedAt: 2025-02-19 21:48:21 -0500 (Wed, 19 Feb 2025) EndedAt: 2025-02-19 21:52:45 -0500 (Wed, 19 Feb 2025) EllapsedTime: 264.3 seconds RetCode: 0 Status: OK CheckDir: dominoSignal.Rcheck Warnings: 0