Package: dominoSignal Version: 1.1.0 Command: /Library/Frameworks/R.framework/Resources/bin/R CMD build --keep-empty-dirs --no-resave-data dominoSignal StartedAt: 2025-02-19 16:33:23 -0500 (Wed, 19 Feb 2025) EndedAt: 2025-02-19 16:42:27 -0500 (Wed, 19 Feb 2025) EllapsedTime: 543.9 seconds RetCode: 0 Status: OK PackageFile: dominoSignal_1.1.0.tar.gz PackageFileSize: 1.061 MiB