Package: dominoSignal Version: 1.1.0 Command: rm -rf dominoSignal.buildbin-libdir && mkdir dominoSignal.buildbin-libdir && /Users/biocbuild/BBS/utils/build-universal.sh dominoSignal_1.1.0.tar.gz /Library/Frameworks/R.framework/Resources/bin/R dominoSignal.buildbin-libdir StartedAt: 2025-02-19 22:20:23 -0500 (Wed, 19 Feb 2025) EndedAt: 2025-02-19 22:20:35 -0500 (Wed, 19 Feb 2025) EllapsedTime: 11.2 seconds RetCode: 0 Status: OK PackageFile: dominoSignal_1.1.0.tgz PackageFileSize: 1.462 MiB