Package: dmrseq Version: 1.27.0 Command: chmod a+r dmrseq -R && E:\biocbuild\bbs-3.21-bioc\R\bin\R.exe CMD build --keep-empty-dirs --no-resave-data dmrseq StartedAt: 2025-02-19 18:26:13 -0500 (Wed, 19 Feb 2025) EndedAt: 2025-02-19 18:36:14 -0500 (Wed, 19 Feb 2025) EllapsedTime: 600.8 seconds RetCode: 0 Status: OK PackageFile: dmrseq_1.27.0.tar.gz PackageFileSize: 2.668 MiB