Package: dmrseq Version: 1.27.0 Command: /home/biocbuild/bbs-3.21-bioc/R/bin/R CMD build --keep-empty-dirs --no-resave-data dmrseq StartedAt: 2025-02-20 17:17:26 -0500 (Thu, 20 Feb 2025) EndedAt: 2025-02-20 17:20:18 -0500 (Thu, 20 Feb 2025) EllapsedTime: 172.2 seconds RetCode: 0 Status: OK PackageFile: dmrseq_1.27.0.tar.gz PackageFileSize: 2.821 MiB