Package: dmrseq Version: 1.27.0 Command: /home/biocbuild/R/R/bin/R CMD INSTALL dmrseq StartedAt: 2025-01-29 20:00:16 -0000 (Wed, 29 Jan 2025) EndedAt: 2025-01-29 20:01:24 -0000 (Wed, 29 Jan 2025) EllapsedTime: 67.9 seconds RetCode: 0 Status: OK