Package: dmrseq Version: 1.27.0 Command: /home/biocbuild/R/R/bin/R CMD build --keep-empty-dirs --no-resave-data dmrseq StartedAt: 2025-01-28 22:32:53 -0000 (Tue, 28 Jan 2025) EndedAt: 2025-01-28 22:37:05 -0000 (Tue, 28 Jan 2025) EllapsedTime: 252.1 seconds RetCode: 0 Status: OK PackageFile: dmrseq_1.27.0.tar.gz PackageFileSize: 2.686 MiB