Package: dmrseq Version: 1.27.0 Command: /Library/Frameworks/R.framework/Resources/bin/R CMD build --keep-empty-dirs --no-resave-data dmrseq StartedAt: 2025-02-20 16:11:20 -0500 (Thu, 20 Feb 2025) EndedAt: 2025-02-20 16:12:26 -0500 (Thu, 20 Feb 2025) EllapsedTime: 66.7 seconds RetCode: 0 Status: OK PackageFile: dmrseq_1.27.0.tar.gz PackageFileSize: 2.968 MiB