Package: dks Version: 1.53.0 Command: E:\biocbuild\bbs-3.21-bioc\R\bin\R.exe CMD INSTALL dks StartedAt: 2025-02-20 15:18:49 -0500 (Thu, 20 Feb 2025) EndedAt: 2025-02-20 15:18:58 -0500 (Thu, 20 Feb 2025) EllapsedTime: 8.4 seconds RetCode: 0 Status: OK