Package: dks Version: 1.53.0 Command: E:\biocbuild\bbs-3.21-bioc\R\bin\R.exe CMD check --no-multiarch --install=check:dks.install-out.txt --library=E:\biocbuild\bbs-3.21-bioc\R\library --no-vignettes --timings dks_1.53.0.tar.gz StartedAt: 2025-02-21 00:46:44 -0500 (Fri, 21 Feb 2025) EndedAt: 2025-02-21 00:47:18 -0500 (Fri, 21 Feb 2025) EllapsedTime: 33.3 seconds RetCode: 0 Status: OK CheckDir: dks.Rcheck Warnings: 0