Package: dks Version: 1.53.0 Command: rm -rf dks.buildbin-libdir && mkdir dks.buildbin-libdir && E:\biocbuild\bbs-3.21-bioc\R\bin\R.exe CMD INSTALL --build --library=dks.buildbin-libdir dks_1.53.0.tar.gz StartedAt: 2025-02-21 07:59:11 -0500 (Fri, 21 Feb 2025) EndedAt: 2025-02-21 07:59:22 -0500 (Fri, 21 Feb 2025) EllapsedTime: 10.8 seconds RetCode: 0 Status: OK PackageFile: dks_1.53.0.zip PackageFileSize: 455.9 KiB