Package: dks Version: 1.53.0 Command: /Library/Frameworks/R.framework/Resources/bin/R CMD INSTALL dks StartedAt: 2025-02-20 15:04:08 -0500 (Thu, 20 Feb 2025) EndedAt: 2025-02-20 15:04:41 -0500 (Thu, 20 Feb 2025) EllapsedTime: 33.1 seconds RetCode: 0 Status: OK