Package: dks Version: 1.53.0 Command: /Library/Frameworks/R.framework/Resources/bin/R CMD build --keep-empty-dirs --no-resave-data dks StartedAt: 2025-02-20 16:32:08 -0500 (Thu, 20 Feb 2025) EndedAt: 2025-02-20 16:32:22 -0500 (Thu, 20 Feb 2025) EllapsedTime: 13.8 seconds RetCode: 0 Status: OK PackageFile: dks_1.53.0.tar.gz PackageFileSize: 600.3 KiB