Package: dks Version: 1.53.0 Command: /Library/Frameworks/R.framework/Resources/bin/R CMD INSTALL dks StartedAt: 2025-02-21 15:01:46 -0500 (Fri, 21 Feb 2025) EndedAt: 2025-02-21 15:01:58 -0500 (Fri, 21 Feb 2025) EllapsedTime: 11.9 seconds RetCode: 0 Status: OK