Package: dks Version: 1.53.0 Command: /Library/Frameworks/R.framework/Resources/bin/R CMD build --keep-empty-dirs --no-resave-data dks StartedAt: 2025-02-21 16:10:18 -0500 (Fri, 21 Feb 2025) EndedAt: 2025-02-21 16:10:23 -0500 (Fri, 21 Feb 2025) EllapsedTime: 5.1 seconds RetCode: 0 Status: OK PackageFile: dks_1.53.0.tar.gz PackageFileSize: 601.1 KiB