Package: dittoSeq Version: 1.19.0 Command: E:\biocbuild\bbs-3.21-bioc\R\bin\R.exe CMD check --no-multiarch --install=check:dittoSeq.install-out.txt --library=E:\biocbuild\bbs-3.21-bioc\R\library --no-vignettes --timings dittoSeq_1.19.0.tar.gz StartedAt: 2025-02-19 00:31:14 -0500 (Wed, 19 Feb 2025) EndedAt: 2025-02-19 00:39:26 -0500 (Wed, 19 Feb 2025) EllapsedTime: 491.2 seconds RetCode: 0 Status: OK CheckDir: dittoSeq.Rcheck Warnings: 0