Package: dittoSeq Version: 1.19.0 Command: /home/biocbuild/bbs-3.21-bioc/R/bin/R CMD INSTALL dittoSeq StartedAt: 2025-02-17 15:22:17 -0500 (Mon, 17 Feb 2025) EndedAt: 2025-02-17 15:22:44 -0500 (Mon, 17 Feb 2025) EllapsedTime: 27.0 seconds RetCode: 0 Status: OK