Package: dittoSeq Version: 1.19.0 Command: /home/biocbuild/bbs-3.21-bioc/R/bin/R CMD build --keep-empty-dirs --no-resave-data dittoSeq StartedAt: 2025-02-17 17:00:10 -0500 (Mon, 17 Feb 2025) EndedAt: 2025-02-17 17:02:05 -0500 (Mon, 17 Feb 2025) EllapsedTime: 115.1 seconds RetCode: 0 Status: OK PackageFile: dittoSeq_1.19.0.tar.gz PackageFileSize: 2.455 MiB