Package: dittoSeq Version: 1.19.0 Command: /Library/Frameworks/R.framework/Resources/bin/R CMD build --keep-empty-dirs --no-resave-data dittoSeq StartedAt: 2025-02-17 16:30:55 -0500 (Mon, 17 Feb 2025) EndedAt: 2025-02-17 16:33:15 -0500 (Mon, 17 Feb 2025) EllapsedTime: 140.5 seconds RetCode: 0 Status: OK PackageFile: dittoSeq_1.19.0.tar.gz PackageFileSize: 3.306 MiB