Package: discordant Version: 1.31.0 Command: /Library/Frameworks/R.framework/Resources/bin/R CMD INSTALL discordant StartedAt: 2025-02-19 15:06:58 -0500 (Wed, 19 Feb 2025) EndedAt: 2025-02-19 15:07:34 -0500 (Wed, 19 Feb 2025) EllapsedTime: 36.0 seconds RetCode: 0 Status: OK