Package: discordant Version: 1.31.0 Command: /Library/Frameworks/R.framework/Resources/bin/R CMD check --install=check:discordant.install-out.txt --library=/Library/Frameworks/R.framework/Resources/library --no-vignettes --timings discordant_1.31.0.tar.gz StartedAt: 2025-02-19 19:03:12 -0500 (Wed, 19 Feb 2025) EndedAt: 2025-02-19 19:03:32 -0500 (Wed, 19 Feb 2025) EllapsedTime: 19.2 seconds RetCode: 0 Status: OK CheckDir: discordant.Rcheck Warnings: 0