Package: dinoR Version: 1.3.0 Command: E:\biocbuild\bbs-3.21-bioc\R\bin\R.exe CMD check --no-multiarch --install=check:dinoR.install-out.txt --library=E:\biocbuild\bbs-3.21-bioc\R\library --no-vignettes --timings dinoR_1.3.0.tar.gz StartedAt: 2025-02-21 00:45:14 -0500 (Fri, 21 Feb 2025) EndedAt: 2025-02-21 00:49:24 -0500 (Fri, 21 Feb 2025) EllapsedTime: 249.8 seconds RetCode: 0 Status: OK CheckDir: dinoR.Rcheck Warnings: 0