Package: dinoR Version: 1.3.0 Command: /home/biocbuild/bbs-3.21-bioc/R/bin/R CMD build --keep-empty-dirs --no-resave-data dinoR StartedAt: 2025-02-21 17:36:38 -0500 (Fri, 21 Feb 2025) EndedAt: 2025-02-21 17:37:43 -0500 (Fri, 21 Feb 2025) EllapsedTime: 65.1 seconds RetCode: 0 Status: OK PackageFile: dinoR_1.3.0.tar.gz PackageFileSize: 3.229 MiB