Package: dinoR Version: 1.3.0 Command: /Library/Frameworks/R.framework/Resources/bin/R CMD INSTALL dinoR StartedAt: 2025-02-20 15:21:45 -0500 (Thu, 20 Feb 2025) EndedAt: 2025-02-20 15:22:23 -0500 (Thu, 20 Feb 2025) EllapsedTime: 38.9 seconds RetCode: 0 Status: OK