Package: dinoR Version: 1.3.0 Command: /Library/Frameworks/R.framework/Resources/bin/R CMD check --install=check:dinoR.install-out.txt --library=/Library/Frameworks/R.framework/Resources/library --no-vignettes --timings dinoR_1.3.0.tar.gz StartedAt: 2025-02-20 20:05:20 -0500 (Thu, 20 Feb 2025) EndedAt: 2025-02-20 20:09:32 -0500 (Thu, 20 Feb 2025) EllapsedTime: 251.1 seconds RetCode: 0 Status: OK CheckDir: dinoR.Rcheck Warnings: 0