Package: dinoR Version: 1.3.0 Command: /home/biocbuild/R/R/bin/R CMD INSTALL dinoR StartedAt: 2025-01-29 20:02:53 -0000 (Wed, 29 Jan 2025) EndedAt: 2025-01-29 20:03:30 -0000 (Wed, 29 Jan 2025) EllapsedTime: 37.5 seconds RetCode: 0 Status: OK