Package: dinoR Version: 1.3.0 Command: /Library/Frameworks/R.framework/Resources/bin/R CMD INSTALL dinoR StartedAt: 2025-02-21 15:14:22 -0500 (Fri, 21 Feb 2025) EndedAt: 2025-02-21 15:14:33 -0500 (Fri, 21 Feb 2025) EllapsedTime: 10.9 seconds RetCode: 0 Status: OK