Package: diggit Version: 1.39.0 Command: rm -rf diggit.buildbin-libdir && mkdir diggit.buildbin-libdir && E:\biocbuild\bbs-3.21-bioc\R\bin\R.exe CMD INSTALL --build --library=diggit.buildbin-libdir diggit_1.39.0.tar.gz StartedAt: 2025-02-21 07:58:50 -0500 (Fri, 21 Feb 2025) EndedAt: 2025-02-21 07:59:25 -0500 (Fri, 21 Feb 2025) EllapsedTime: 35.6 seconds RetCode: 0 Status: OK PackageFile: diggit_1.39.0.zip PackageFileSize: 465.8 KiB