Package: diggit Version: 1.39.0 Command: /home/biocbuild/bbs-3.21-bioc/R/bin/R CMD INSTALL diggit StartedAt: 2025-02-20 15:22:31 -0500 (Thu, 20 Feb 2025) EndedAt: 2025-02-20 15:22:44 -0500 (Thu, 20 Feb 2025) EllapsedTime: 13.0 seconds RetCode: 0 Status: OK