Package: diggit Version: 1.39.0 Command: /Library/Frameworks/R.framework/Resources/bin/R CMD INSTALL diggit StartedAt: 2025-02-20 15:20:13 -0500 (Thu, 20 Feb 2025) EndedAt: 2025-02-20 15:20:18 -0500 (Thu, 20 Feb 2025) EllapsedTime: 5.0 seconds RetCode: 0 Status: OK