Package: diggit Version: 1.39.0 Command: /Library/Frameworks/R.framework/Resources/bin/R CMD check --install=check:diggit.install-out.txt --library=/Library/Frameworks/R.framework/Resources/library --no-vignettes --timings diggit_1.39.0.tar.gz StartedAt: 2025-02-20 19:00:49 -0500 (Thu, 20 Feb 2025) EndedAt: 2025-02-20 19:01:52 -0500 (Thu, 20 Feb 2025) EllapsedTime: 62.8 seconds RetCode: 0 Status: WARNINGS CheckDir: diggit.Rcheck Warnings: 3