Package: diffuStats Version: 1.27.0 Command: /Library/Frameworks/R.framework/Resources/bin/R CMD INSTALL diffuStats StartedAt: 2025-02-19 15:06:13 -0500 (Wed, 19 Feb 2025) EndedAt: 2025-02-19 15:06:21 -0500 (Wed, 19 Feb 2025) EllapsedTime: 8.4 seconds RetCode: 0 Status: OK