Package: diffcyt Version: 1.27.3 Command: /home/biocbuild/bbs-3.21-bioc/R/bin/R CMD INSTALL diffcyt StartedAt: 2025-02-20 15:31:08 -0500 (Thu, 20 Feb 2025) EndedAt: 2025-02-20 15:31:39 -0500 (Thu, 20 Feb 2025) EllapsedTime: 30.2 seconds RetCode: 0 Status: OK