Package: diffcyt Version: 1.27.3 Command: /home/biocbuild/bbs-3.21-bioc/R/bin/R CMD build --keep-empty-dirs --no-resave-data diffcyt StartedAt: 2025-02-20 17:15:24 -0500 (Thu, 20 Feb 2025) EndedAt: 2025-02-20 17:17:02 -0500 (Thu, 20 Feb 2025) EllapsedTime: 97.1 seconds RetCode: 0 Status: OK PackageFile: diffcyt_1.27.3.tar.gz PackageFileSize: 895.3 KiB