Package: diffcyt Version: 1.27.3 Command: /Library/Frameworks/R.framework/Resources/bin/R CMD check --install=check:diffcyt.install-out.txt --library=/Library/Frameworks/R.framework/Resources/library --no-vignettes --timings diffcyt_1.27.3.tar.gz StartedAt: 2025-02-20 20:03:04 -0500 (Thu, 20 Feb 2025) EndedAt: 2025-02-20 20:07:36 -0500 (Thu, 20 Feb 2025) EllapsedTime: 271.3 seconds RetCode: 0 Status: OK CheckDir: diffcyt.Rcheck Warnings: 0