Package: diffcyt Version: 1.27.3 Command: /Library/Frameworks/R.framework/Resources/bin/R CMD build --keep-empty-dirs --no-resave-data diffcyt StartedAt: 2025-02-20 16:09:23 -0500 (Thu, 20 Feb 2025) EndedAt: 2025-02-20 16:10:07 -0500 (Thu, 20 Feb 2025) EllapsedTime: 43.5 seconds RetCode: 0 Status: OK PackageFile: diffcyt_1.27.3.tar.gz PackageFileSize: 855.7 KiB