Package: diffcyt Version: 1.27.3 Command: rm -rf diffcyt.buildbin-libdir && mkdir diffcyt.buildbin-libdir && /Users/biocbuild/BBS/utils/build-universal.sh diffcyt_1.27.3.tar.gz /Library/Frameworks/R.framework/Resources/bin/R diffcyt.buildbin-libdir StartedAt: 2025-02-20 22:16:51 -0500 (Thu, 20 Feb 2025) EndedAt: 2025-02-20 22:17:04 -0500 (Thu, 20 Feb 2025) EllapsedTime: 13.3 seconds RetCode: 0 Status: OK PackageFile: diffcyt_1.27.3.tgz PackageFileSize: 865.3 KiB