Package: diffcoexp Version: 1.27.0 Command: E:\biocbuild\bbs-3.21-bioc\R\bin\R.exe CMD INSTALL diffcoexp StartedAt: 2025-02-19 16:38:59 -0500 (Wed, 19 Feb 2025) EndedAt: 2025-02-19 16:39:33 -0500 (Wed, 19 Feb 2025) EllapsedTime: 33.8 seconds RetCode: 0 Status: OK