Package: diffcoexp Version: 1.27.0 Command: /home/biocbuild/bbs-3.21-bioc/R/bin/R CMD INSTALL diffcoexp StartedAt: 2025-02-20 15:58:01 -0500 (Thu, 20 Feb 2025) EndedAt: 2025-02-20 15:58:29 -0500 (Thu, 20 Feb 2025) EllapsedTime: 27.8 seconds RetCode: 0 Status: OK