Package: diffcoexp Version: 1.28.0 Command: /Library/Frameworks/R.framework/Resources/bin/R CMD INSTALL diffcoexp StartedAt: 2025-09-29 16:26:02 -0400 (Mon, 29 Sep 2025) EndedAt: 2025-09-29 16:27:07 -0400 (Mon, 29 Sep 2025) EllapsedTime: 65.5 seconds RetCode: 0 Status: OK