Package: diffcoexp Version: 1.28.0 Command: /Library/Frameworks/R.framework/Resources/bin/R CMD build --keep-empty-dirs --no-resave-data diffcoexp StartedAt: 2025-09-29 18:37:07 -0400 (Mon, 29 Sep 2025) EndedAt: 2025-09-29 18:38:43 -0400 (Mon, 29 Sep 2025) EllapsedTime: 96.3 seconds RetCode: 0 Status: OK PackageFile: diffcoexp_1.28.0.tar.gz PackageFileSize: 293.7 KiB