Package: diffcoexp Version: 1.27.0 Command: rm -rf diffcoexp.buildbin-libdir && mkdir diffcoexp.buildbin-libdir && /Users/biocbuild/BBS/utils/build-universal.sh diffcoexp_1.27.0.tar.gz /Library/Frameworks/R.framework/Resources/bin/R diffcoexp.buildbin-libdir StartedAt: 2025-02-20 00:29:20 -0500 (Thu, 20 Feb 2025) EndedAt: 2025-02-20 00:30:02 -0500 (Thu, 20 Feb 2025) EllapsedTime: 41.8 seconds RetCode: 0 Status: OK PackageFile: diffcoexp_1.27.0.tgz PackageFileSize: 319 KiB