Package: diffUTR Version: 1.15.0 Command: E:\biocbuild\bbs-3.21-bioc\R\bin\R.exe CMD INSTALL diffUTR StartedAt: 2025-02-20 16:22:09 -0500 (Thu, 20 Feb 2025) EndedAt: 2025-02-20 16:22:59 -0500 (Thu, 20 Feb 2025) EllapsedTime: 50.9 seconds RetCode: 0 Status: OK