Package: diffUTR Version: 1.15.0 Command: chmod a+r diffUTR -R && E:\biocbuild\bbs-3.21-bioc\R\bin\R.exe CMD build --keep-empty-dirs --no-resave-data diffUTR StartedAt: 2025-02-20 18:24:57 -0500 (Thu, 20 Feb 2025) EndedAt: 2025-02-20 18:26:44 -0500 (Thu, 20 Feb 2025) EllapsedTime: 107.3 seconds RetCode: 0 Status: OK PackageFile: diffUTR_1.15.0.tar.gz PackageFileSize: 1.103 MiB