Package: diffUTR Version: 1.15.0 Command: /Library/Frameworks/R.framework/Resources/bin/R CMD build --keep-empty-dirs --no-resave-data diffUTR StartedAt: 2025-02-19 16:31:17 -0500 (Wed, 19 Feb 2025) EndedAt: 2025-02-19 16:32:45 -0500 (Wed, 19 Feb 2025) EllapsedTime: 88.0 seconds RetCode: 0 Status: OK PackageFile: diffUTR_1.15.0.tar.gz PackageFileSize: 1.38 MiB