Package: diffUTR Version: 1.15.0 Command: rm -rf diffUTR.buildbin-libdir && mkdir diffUTR.buildbin-libdir && /Users/biocbuild/BBS/utils/build-universal.sh diffUTR_1.15.0.tar.gz /Library/Frameworks/R.framework/Resources/bin/R diffUTR.buildbin-libdir StartedAt: 2025-02-20 00:29:24 -0500 (Thu, 20 Feb 2025) EndedAt: 2025-02-20 00:30:27 -0500 (Thu, 20 Feb 2025) EllapsedTime: 62.6 seconds RetCode: 0 Status: OK PackageFile: diffUTR_1.15.0.tgz PackageFileSize: 1.426 MiB