Package: diffHic Version: 1.39.1 Command: E:\biocbuild\bbs-3.21-bioc\R\bin\R.exe CMD INSTALL diffHic StartedAt: 2025-02-19 16:00:56 -0500 (Wed, 19 Feb 2025) EndedAt: 2025-02-19 16:03:10 -0500 (Wed, 19 Feb 2025) EllapsedTime: 133.8 seconds RetCode: 0 Status: OK