Package: diffHic Version: 1.39.1 Command: rm -rf diffHic.buildbin-libdir && mkdir diffHic.buildbin-libdir && E:\biocbuild\bbs-3.21-bioc\R\bin\R.exe CMD INSTALL --build --library=diffHic.buildbin-libdir diffHic_1.39.1.tar.gz StartedAt: 2025-02-20 07:40:17 -0500 (Thu, 20 Feb 2025) EndedAt: 2025-02-20 07:42:16 -0500 (Thu, 20 Feb 2025) EllapsedTime: 118.7 seconds RetCode: 0 Status: OK PackageFile: diffHic_1.39.1.zip PackageFileSize: 6.969 MiB